BEGIN:VCALENDAR
VERSION:2.0
PRODID:-//Aloha Music Series - ECPv6.15.20//NONSGML v1.0//EN
CALSCALE:GREGORIAN
METHOD:PUBLISH
X-ORIGINAL-URL:https://alohamusicseries.com
X-WR-CALDESC:Events for Aloha Music Series
REFRESH-INTERVAL;VALUE=DURATION:PT1H
X-Robots-Tag:noindex
X-PUBLISHED-TTL:PT1H
BEGIN:VTIMEZONE
TZID:UTC
BEGIN:STANDARD
TZOFFSETFROM:+0000
TZOFFSETTO:+0000
TZNAME:UTC
DTSTART:20240101T000000
END:STANDARD
END:VTIMEZONE
BEGIN:VEVENT
DTSTART;TZID=UTC:20251116T130000
DTEND;TZID=UTC:20251116T153000
DTSTAMP:20260425T060848
CREATED:20251105T013713Z
LAST-MODIFIED:20251105T013717Z
UID:2373-1763298000-1763307000@alohamusicseries.com
SUMMARY:Sundays in the Country with Rowdy Love
DESCRIPTION:AG Presents and Casanova Makawao are excited to welcome Rowdy Love to the “Sundays in the Country” Aloha Music Series at Casanova’s in Beautiful Makawao on Sunday\, November 16\, 2025.\n			\n				\n				\n				\n				\n				More Information Below!\n			\n				Buy Tickets\n			\n			\n				\n				\n				\n				\n				\n				\n				\n				\n				\n				Casanova Makawao\n			\n				\n				\n				\n				\n				Sunday\nNov 16\, 2025\n			\n				\n				\n				\n				\n				Online: $20 + $1.40 Processing FeeAt Door: $20Doors Open at 11:30amShow Starts at 1pmTables First-Come\, First-ServeFood + Bevs Throughout the Day\n			\n				\n				\n				\n				\n				Follow Us\n			\n				\n				\n				\n				\n				FollowFollowFollow\n			\n			\n				\n				\n				\n				\n			\n				\n				\n				\n				\n				\n				\n				\n				\n				\n				\n				ABOUT ROWDY LOVE\nWho is Rowdy Love? Aaron Jernigan and Stina Lynn are wild souls who met on a little farm in Haiku\, Hawai’i\, over a decade ago. Seeing as they both had the same taste in music\, they decided to start singing tunes together at parties and potlucks. After a successful run with their band Flat Jackson\, Aaron and Stina started Rowdy Love. With the new band behind them\, Clint Bleifus (rhythm and lead guitars)\, Jonas Troxell (Bass)\, and Paul Gilespie (Drums)\, they have created a unique but familiar sound that can best be described as a Rockabilly-Americana mash-up with the energy of punk and the subtle undertones of ska. They have built a Rockabilly powerhouse that will turn any event into a dancehall\, shakedown\, hootenanny… And donʻt forget to bring your dancing shoes!\nGet ready for a day of Rockabilly Americana that will have you on the dance floor! Rowdy Love has been packing venues and dance floors with every show they’ve done\, gaining new fans of all ages along the way. They have even recently started their own annual festival on Maui called “Rowdy Fest.”\n			\n				\n				\n				\n				\n				ABOUT CASANOVA MAKAWAO\nSince 1986\, Casanova Makawao has been at the heart of the Upcountry Maui lifestyle. At the main crossroad of Historic Makawao town\, Casanova was Maui’s first wood-burning oven. Offering fresh salads\, pastas\, seafood\, and pizzas\, in 2017\, OpenTable diners rated Casanova the Best Italian Restaurant in the State of Hawaii. Learn more at CasanovaMaui.com.\n			\n				Buy Tickets\n			\n			\n				\n				\n				\n				\n			\n				\n				\n				\n				\n				\n				\n				Back to Upcoming
URL:https://alohamusicseries.com/event/sitc-rowdy-love-nov-16-25/
LOCATION:Casanova Makawao\, 1188 Makawao Avenue\, Makawao\, HI\, 96768\, United States
ATTACH;FMTTYPE=image/jpeg:https://alohamusicseries.com/wp-content/uploads/2025/11/RowdyLove11.16Sqr600.jpg
END:VEVENT
BEGIN:VEVENT
DTSTART;TZID=UTC:20251130T130000
DTEND;TZID=UTC:20251130T153000
DTSTAMP:20260425T060848
CREATED:20251105T003754Z
LAST-MODIFIED:20251105T004229Z
UID:2364-1764507600-1764516600@alohamusicseries.com
SUMMARY:Sundays in the Country with Above Snakes
DESCRIPTION:On November 30\, 2025\, Mauiʻs premier honky-tonk-country band\, Above Snakes\, will bring an afternoon of music celebrating Classic Country and Honky Tonk to Casanova Makawao. The doors open at 11:30am and the show starts at 1pm.\n			\n				\n				\n				\n				\n				More Information Below!\n			\n				Buy Tickets\n			\n			\n				\n				\n				\n				\n				\n				\n				\n				\n				\n				Casanova Makawao\n			\n				\n				\n				\n				\n				Sunday\nNov 30\, 2025\n			\n				\n				\n				\n				\n				Online: $20 + $1.40 Processing FeeAt Door: $20Doors Open at 11:30amShow Starts at 1pmTables First-Come\, First-ServeFood + Bevs Throughout the Day\n			\n				\n				\n				\n				\n				Follow Us\n			\n				\n				\n				\n				\n				FollowFollowFollow\n			\n			\n				\n				\n				\n				\n			\n				\n				\n				\n				\n				\n				\n				\n				\n				\n				\n				ABOUT ABOVE SNAKES\nThis trail-blazing band features Marty Fera on drums (Glenn Fry\, Joe Walsh\, and Dave Mason)\, Matt Del Olmo on guitar and vocals\, Tim Hackbarth on bass\, and Justin Morris on guitar and vocals (Brown Chicken Brown Cow).\n			\n				\n				\n				\n				\n				ABOUT CASANOVA MAKAWAO\nSince 1986\, Casanova Makawao has been at the heart of the Upcountry Maui lifestyle. At the main crossroad of Historic Makawao town\, Casanova was Maui’s first wood-burning oven. Offering fresh salads\, pastas\, seafood\, and pizzas\, in 2017\, OpenTable diners rated Casanova the Best Italian Restaurant in the State of Hawaii. Learn more at CasanovaMaui.com.\n			\n				Buy Tickets\n			\n			\n				\n				\n				\n				\n			\n				\n				\n				\n				\n				\n				\n				Back to Upcoming
URL:https://alohamusicseries.com/event/sundays-in-the-country-with-above-snakes/
LOCATION:Casanova Makawao\, 1188 Makawao Avenue\, Makawao\, HI\, 96768\, United States
ATTACH;FMTTYPE=image/jpeg:https://alohamusicseries.com/wp-content/uploads/2025/11/SIC_AboveSnakesSqr11.30_600.jpg
END:VEVENT
END:VCALENDAR