BEGIN:VCALENDAR
VERSION:2.0
PRODID:-//Aloha Music Series - ECPv6.15.20//NONSGML v1.0//EN
CALSCALE:GREGORIAN
METHOD:PUBLISH
X-ORIGINAL-URL:https://alohamusicseries.com
X-WR-CALDESC:Events for Aloha Music Series
REFRESH-INTERVAL;VALUE=DURATION:PT1H
X-Robots-Tag:noindex
X-PUBLISHED-TTL:PT1H
BEGIN:VTIMEZONE
TZID:UTC
BEGIN:STANDARD
TZOFFSETFROM:+0000
TZOFFSETTO:+0000
TZNAME:UTC
DTSTART:20240101T000000
END:STANDARD
END:VTIMEZONE
BEGIN:VEVENT
DTSTART;TZID=UTC:20250806T183000
DTEND;TZID=UTC:20250806T203000
DTSTAMP:20260425T101353
CREATED:20250726T015819Z
LAST-MODIFIED:20250726T024913Z
UID:1847-1754505000-1754512200@alohamusicseries.com
SUMMARY:Uncle Benny Uyetake’s Kanikapila
DESCRIPTION:Join us in Wailea for Uncle Benny Uyetake’s Kanikapila on Wednesday\, August 6\, 2025\, with special musical guests Liz Morales and Hula by Wailani Mulvihill.\n			\n				BUY TICKETS\n			\n				\n				\n				\n				\n				More Details Below!\n			\n			\n				\n				\n				\n				\n				\n				\n				\n				\n				\n				MulligansOn The Blue\n			\n				\n				\n				\n				\n				Wednesday\nAugust 6\, 2025\n			\n				\n				\n				\n				\n				$15-$25 Show TicketsDinner seating starts at 5:00pmShow begins at 6:30pmGo early for dinner and stay for the music!\n			\n				\n				\n				\n				\n				Follow Us\n			\n				\n				\n				\n				\n				FollowFollowFollow\n			\n			\n				\n				\n				\n				\n			\n				\n				\n				\n				\n				\n				\n				\n				\n				\n				\n				About the Show\nKanikapila\, gathering together to play music\, has been a well-loved traditional Hawaiian pastime. It’s these types of impromptu jam sessions that create an exceptionally rare evening on the islands. Maui’s musical treasure\, Uncle Benny Uyetake\, re-imagines Kanikapila evenings in Wailea with storytelling\, and world-class music. Through the Aloha Music Series\, Uncle Benny will introduce you to the new sounds from the islands and transport you to old Hawaiʻi as he hosts upcoming artists and Hawaiʻi’s legends. You never know who is gonna show up and kanikapila!\nAbout the Artists\n– BENNY UYETAKE –\nBenny has played with some of the world’s finest musicians on Maui and while touring. Over the years Benny has shared the stage with some of Hawaiʻi’s greatest trailblazers like Uncle Willie K and Barry Flanagan of HAPA\, as well as the world’s most talented jazz players Les McCann\, Russel Malone\, and Donald Harrison. His versatility comes from his years of musical study in different genres with mentors in classical\, jazz\, Hawaiian\, Blues\, and rock.\n– LIZ MORALES​​ –\nLiz Morales\, a respected community leader from Maui\, is a multi-talented performer\, singer\, songwriter\, music producer\, and educator. She has extensive knowledge of Hawaiian\, Country\, Rock and Roll\, and R&B music and has performed alongside some of Hawaiʻi’s notables; Amy Hanaialiʻi\, Raiatea Helm\, and Owana Salazar\, to name a few. Liz is the founder of the band Ahumanu\, which has garnered recognition as a Na Hoku Hanohano Award finalist and Grammy-nominated group since 2003. Ahumanu has captivated audiences globally\, spreading Hawaiian music across various countries such as Tahiti\, Rapa Nui\, Japan\, Korea\, and now in Europe.\n– WAILANI MULVIHILL​​ – Polynesian Dancer & Cultural Ambassador\nAlthough not formally recognized as a Kumu Hula\, Wailani has shared her mana‘o by teaching hula and Polynesian dance throughout her career. One of her proudest accomplishments has been blending her passion for culture with her calling as an educator. Now in her 26th year of teaching — currently at Waiheʻe Elementary and formerly at Kalama Intermediate in Hawaiian Immersion — she has nurtured generations of keiki both in the classroom and on stage. Her students have performed at venues like Disneyland and Knott’s Berry Farm alongside the talented Benny Uyetake’s ʻukulele ensemble.\nWailani has also performed as an international dancer abroad and has had the honor of dancing as a soloist for celebrated musicians\, including HAPA and Benny Uyetake\, among many others. A true cultural ambassador\, Wailani Mulvihill continues to inspire with every sway of her hips\, every graceful motion of her hands\, and every story shared through dance.\n			\n				BUY TICKETS\n			\n			\n				\n				\n				\n				\n			\n				\n				\n				\n				\n				\n				\n				Back to Upcoming
URL:https://alohamusicseries.com/event/uncle-benny-kanikapila-aug-25/
LOCATION:Mulligans On The Blue\, 100 Kaukahi St.\, Kihei\, HI\, 96753\, United States
ATTACH;FMTTYPE=image/jpeg:https://alohamusicseries.com/wp-content/uploads/2025/07/Benny-Sqr.08.06.25_LIZM_600.jpg
END:VEVENT
BEGIN:VEVENT
DTSTART;TZID=UTC:20250817T130000
DTEND;TZID=UTC:20250817T153000
DTSTAMP:20260425T101353
CREATED:20250729T040650Z
LAST-MODIFIED:20250731T063950Z
UID:1862-1755435600-1755444600@alohamusicseries.com
SUMMARY:Sundays In The Country Featuring Shane Hall
DESCRIPTION:On August 17\, 2025\, award-winning singer-songwriter Shane Hall\, from San Diego\, California\, will kick off “Sundays in the Country” at Casanova Makawao. The doors open at 11:30am and the show starts at 1pm.\n			\n				\n				\n				\n				\n				More Information Below!\n			\n				Buy Tickets\n			\n			\n				\n				\n				\n				\n				\n				\n				\n				\n				\n				Casanova Makawao\n			\n				\n				\n				\n				\n				Sunday\nAug 17\, 2025\n			\n				\n				\n				\n				\n				$20 Show TicketsDoors Open at 11:30amTables will be available on a first-come\, first-served basis.Food and drinks will be served throughout the day.\n			\n				\n				\n				\n				\n				Follow Us\n			\n				\n				\n				\n				\n				FollowFollowFollow\n			\n			\n				\n				\n				\n				\n			\n				\n				\n				\n				\n				\n				\n				\n				\n				\n				\n				Shane brings his electrifying presence that is redefining the Indie music scene. With his signature “Fuzz Funk Voodoo Blues\,” Hall masterfully blends elements of Blues\, Soul\, Funk\, Americana\, Rock\, and Alternative into a captivating and one-of-a-kind sound that resonates with authenticity.\nShane is back touring the islands with several special shows. Shane will be celebrating his new single release “Storm Bird” with Tavana at The Blue Note Hawai’i on August 13th then he will be supporting Ron Artis II on Kaua’i on August 16th.\n			\n				Buy Tickets\n			\n			\n				\n				\n				\n				\n			\n				\n				\n				\n				\n				\n				\n				Back to Upcoming
URL:https://alohamusicseries.com/event/sitc-shane-hall-aug-2025/
LOCATION:Casanova Makawao\, 1188 Makawao Avenue\, Makawao\, HI\, 96768\, United States
ATTACH;FMTTYPE=image/jpeg:https://alohamusicseries.com/wp-content/uploads/2025/07/SIC_ShaneSqr600-FINAL.jpg
END:VEVENT
BEGIN:VEVENT
DTSTART;TZID=UTC:20250831T130000
DTEND;TZID=UTC:20250831T153000
DTSTAMP:20260425T101353
CREATED:20250729T041753Z
LAST-MODIFIED:20250813T095251Z
UID:1873-1756645200-1756654200@alohamusicseries.com
SUMMARY:Sundays in the Country Featuring Above Snakes
DESCRIPTION:On August 31\, 2025\, Mauiʻs premier honky-tonk-country band\, Above Snakes\, will bring an afternoon of music celebrating Classic Country and Honky Tonk to Casanova Makawao. The doors open at 11:30am and the show starts at 1pm.\n			\n				\n				\n				\n				\n				More Information Below!\n			\n				Buy Tickets\n			\n			\n				\n				\n				\n				\n				\n				\n				\n				\n				\n				Casanova Makawao\n			\n				\n				\n				\n				\n				Sunday\nAug 31\, 2025\n			\n				\n				\n				\n				\n				$20 Show TicketsDoors Open at 11:30amTables will be available on a first-come\, first-served basis.Food and drinks will be served throughout the day.\n			\n				\n				\n				\n				\n				Follow Us\n			\n				\n				\n				\n				\n				FollowFollowFollow\n			\n			\n				\n				\n				\n				\n			\n				\n				\n				\n				\n				\n				\n				\n				\n				\n				\n				This trail-blazing band features Marty Fera on drums (Glenn Fry\, Joe Walsh\, and Dave Mason)\, Matt Del Olmo on guitar and vocals\, Tim Hackbarth on bass\, and Justin Morris on guitar and vocals (Brown Chicken Brown Cow).\n			\n				Buy Tickets\n			\n			\n				\n				\n				\n				\n			\n				\n				\n				\n				\n				\n				\n				Back to Upcoming
URL:https://alohamusicseries.com/event/sitc-above-snakes-aug-2025/
LOCATION:Casanova Makawao\, 1188 Makawao Avenue\, Makawao\, HI\, 96768\, United States
ATTACH;FMTTYPE=image/jpeg:https://alohamusicseries.com/wp-content/uploads/2025/07/SIC_AboveSnakesSqr600-2.jpg
END:VEVENT
END:VCALENDAR