BEGIN:VCALENDAR
VERSION:2.0
PRODID:-//Aloha Music Series - ECPv6.15.20//NONSGML v1.0//EN
CALSCALE:GREGORIAN
METHOD:PUBLISH
X-WR-CALNAME:Aloha Music Series
X-ORIGINAL-URL:https://alohamusicseries.com
X-WR-CALDESC:Events for Aloha Music Series
REFRESH-INTERVAL;VALUE=DURATION:PT1H
X-Robots-Tag:noindex
X-PUBLISHED-TTL:PT1H
BEGIN:VTIMEZONE
TZID:UTC
BEGIN:STANDARD
TZOFFSETFROM:+0000
TZOFFSETTO:+0000
TZNAME:UTC
DTSTART:20240101T000000
END:STANDARD
END:VTIMEZONE
BEGIN:VEVENT
DTSTART;TZID=UTC:20250507T183000
DTEND;TZID=UTC:20250507T203000
DTSTAMP:20260425T162920
CREATED:20250412T031743Z
LAST-MODIFIED:20250412T031747Z
UID:1399-1746642600-1746649800@alohamusicseries.com
SUMMARY:The World of Ukulele with Andrew & Jay Molina
DESCRIPTION:AG Presents is excited to bring the Aloha Music Series to Mulligans On The Blue with Maui’s Ukulele Virtuoso Andrew & Jay Molina on Wednesday\, May 7th.\nExperience one of Hawaii‘s great ukulele-fronted duos\, (father + son) Andrew and Jay Molina\, as they share songs\, stories\, and laughter while taking you on a musical journey throughout the “World of Ukulele”.\n			\n				Buy Tickets\n			\n				\n				\n				\n				\n				More Details Below!\n			\n			\n				\n				\n				\n				\n				\n				\n				\n				\n				\n				MulligansOn The Blue\n			\n				\n				\n				\n				\n				Wednesday\nDec. 4\, 2024\n			\n				\n				\n				\n				\n				$10-$15 Show TicketsDinner seating starts at 5:00pmShow begins at 6:30pmGo early for dinner and stay for the music!\n			\n				\n				\n				\n				\n				Follow Us\n			\n				\n				\n				\n				\n				FollowFollowFollow\n			\n			\n				\n				\n				\n				\n			\n				\n				\n				\n				\n				\n				\n				\n				\n				\n				\n				About the Artists\n– ANDREW MOLINA –\nAndrews 3 albums have all been nominated for “Ukulele Album of the Year” at the prestigious “Nā Hōkū Hanohano” music awards\, (Hawaii’s version of the Grammy’s) and he has also been featured on the cover of England’s Uke Magazine. His music has also been featured in video promotions for Hawaiian Airlines and Ocean Vodka. His music is also feature on certain Hawaiian Airlines flights. From sweet Hawaiian sounds to Aerosmith’s “Dream On\,” Guns N’ Roses “Sweet Child O’ Mine\,” “Stairway To Heaven” and even the “Game of Thrones” theme\, Andrew along with his dad Jay on bass and guitar prove that anything is possible on the ukulele! He is always looking to take the ukulele to the next level and inspire people of all ages by showing them what is possible on this humble little 4 string instrument.\n– JAY MOLINA –\nA veteran of the Maui music scene\, vocalist/bass guitarist Jay Molina has performed with local bands such as Asian Blend\, the jazz fusion group Music Magic\, and The Ali’i’s\, as well as with Henry Kapono and Loyal Garner. Jay tours and plays with his son Andrew who is one of Hawaiiʻs top ukulele players. They tour as a Father and Son duo and have played international ukulele Festivals all over the World.\n			\n				Buy Tickets\n			\n			\n				\n				\n				\n				\n			\n				\n				\n				\n				\n				\n				\n				Back to Upcoming
URL:https://alohamusicseries.com/event/world-of-ukulele-may-2025/
LOCATION:Mulligans On The Blue\, 100 Kaukahi St.\, Kihei\, HI\, 96753\, United States
ATTACH;FMTTYPE=image/jpeg:https://alohamusicseries.com/wp-content/uploads/2025/04/AMS-Andrew-Jay-May-2025-sqr.jpg
END:VEVENT
END:VCALENDAR