BEGIN:VCALENDAR
VERSION:2.0
PRODID:-//Aloha Music Series - ECPv6.15.20//NONSGML v1.0//EN
CALSCALE:GREGORIAN
METHOD:PUBLISH
X-WR-CALNAME:Aloha Music Series
X-ORIGINAL-URL:https://alohamusicseries.com
X-WR-CALDESC:Events for Aloha Music Series
REFRESH-INTERVAL;VALUE=DURATION:PT1H
X-Robots-Tag:noindex
X-PUBLISHED-TTL:PT1H
BEGIN:VTIMEZONE
TZID:UTC
BEGIN:STANDARD
TZOFFSETFROM:+0000
TZOFFSETTO:+0000
TZNAME:UTC
DTSTART:20230101T000000
END:STANDARD
END:VTIMEZONE
BEGIN:VEVENT
DTSTART;TZID=UTC:20241113T190000
DTEND;TZID=UTC:20241113T210000
DTSTAMP:20260425T115919
CREATED:20241113T001827Z
LAST-MODIFIED:20241113T061217Z
UID:1261-1731524400-1731531600@alohamusicseries.com
SUMMARY:TAVANA
DESCRIPTION:Join us on Wednesday\, November 13th\, for a special evening of world-class music at Mulligans On The Blue with Oahu’s one-man wrecking crew\, Tavana!\n			\n				Buy Tickets\n			\n				\n				\n				\n				\n				More Information Below!\n			\n			\n				\n				\n				\n				\n				\n				\n				\n				\n				\n				MulligansOn The Blue\n			\n				\n				\n				\n				\n				Wednesday\nNov. 13\, 2024\n			\n				\n				\n				\n				\n				$20-$30 Show TicketsDinner seating starts at 5:30pmShow begins at 7pmGo early for dinner and stay for the music!\n			\n				\n				\n				\n				\n				Follow Us\n			\n				\n				\n				\n				\n				FollowFollowFollow\n			\n			\n				\n				\n				\n				\n			\n				\n				\n				\n				\n				\n				\n				\n				\n				\n				\n				Tavana is a multi-instrumentalist and a Nā Hōkū Hanohano nominee in several genres. He is known for his ability to use his feet to lay down a variety of grooves while simultaneously playing guitar\, banjo\, dobro\, lap steel\, or ukulele while singing soulful\, island-inspired Rock and Blues. His innovative style and electrifying performances have significantly enriched the local music scene\, drawing in diverse audiences and inspiring fellow musicians. Tavana’s unique approach has helped to elevate the profile of island-inspired Rock and Blues\, making it a prominent genre in Hawaii. His contributions have not only entertained but also paved the way for future generations of multi-instrumentalists in the region.\n			\n				Buy Tickets\n			\n			\n				\n				\n				\n				\n			\n				\n				\n				\n				\n				\n				\n				Back to Upcoming
URL:https://alohamusicseries.com/event/tavana-nov2024/
LOCATION:Mulligans On The Blue\, 100 Kaukahi St.\, Kihei\, HI\, 96753\, United States
ATTACH;FMTTYPE=image/jpeg:https://alohamusicseries.com/wp-content/uploads/2024/10/Tavana_MulligansSqr11.13.24_6001.jpg
END:VEVENT
END:VCALENDAR