BEGIN:VCALENDAR
VERSION:2.0
PRODID:-//Aloha Music Series - ECPv6.15.20//NONSGML v1.0//EN
CALSCALE:GREGORIAN
METHOD:PUBLISH
X-ORIGINAL-URL:https://alohamusicseries.com
X-WR-CALDESC:Events for Aloha Music Series
REFRESH-INTERVAL;VALUE=DURATION:PT1H
X-Robots-Tag:noindex
X-PUBLISHED-TTL:PT1H
BEGIN:VTIMEZONE
TZID:Pacific/Honolulu
BEGIN:STANDARD
TZOFFSETFROM:-1000
TZOFFSETTO:-1000
TZNAME:HST
DTSTART:20250101T000000
END:STANDARD
END:VTIMEZONE
BEGIN:VEVENT
DTSTART;TZID=Pacific/Honolulu:20260329T130000
DTEND;TZID=Pacific/Honolulu:20260329T150000
DTSTAMP:20260425T014135
CREATED:20260222T152835Z
LAST-MODIFIED:20260222T153218Z
UID:2783-1774789200-1774796400@alohamusicseries.com
SUMMARY:Sundays in the Country with Bayou Brothers Revival
DESCRIPTION:Presented by Maui Brewing Co\n			\n				\n				\n				\n				\n				AG Presents\, Maui Brewing Company\, and Casanova Makawao are excited to welcome the Bayou Brothers Revival (playing the music of Creedence Clearwater Revival) to the Aloha Music Series\, Sundays in the Country\, at Casanova’s in Makawao Town on Sunday\, March 29th!\nWe are excited to bring you Hawaii’s newest tribute band\, BBR\, “Bayou Brothers Revival\,” paying tribute to one of the greatest songwriting bands\, Creedence Clearwater Revival. Join us for a trip through the Bayou!\nThe band consists of Austin Hutto on guitar and lead vocals\, pulling off Jon Fogerty’s vocals as you’ve never heard. Justin Morris on bass and vocals\, and Steve Morris on drums and vocals. If you’re familiar with the Lonely Hearts Beatles and Beyond\, then you’ll know how good these guys are!\nBust out your flannels and let’s get ready to hit the Bayou with some of the greatest rock music ever written. You’ll be singing along from the first song to the last!\n			\n				\n				\n				\n				\n				More Information Below!\n			\n				Buy Tickets\n			\n			\n				\n				\n				\n				\n				\n				\n				\n				\n				\n				Presented by\n			\n				\n				\n				\n				\n				\n			\n				\n				\n				\n				\n				Casanova Makawao\n			\n				\n				\n				\n				\n				Sunday\nMar 29\, 2026\n			\n				\n				\n				\n				\n				Tickets are $20 + $1.40(Processing Fee) OR$20 at DoorDoors Open at 11:30amShow Starts at 1pmTables First-Come\, First-ServedFood + Bevs Throughout the Day\n			\n				\n				\n				\n				\n				Follow Us\n			\n				\n				\n				\n				\n				FollowFollowFollow\n			\n			\n				\n				\n				\n				\n			\n				\n				\n				\n				\n				\n				\n				\n				\n				\n				\n				ABOUT CASANOVA MAKAWAO\nSince 1986\, Casanova Makawao has been at the heart of the Upcountry Maui lifestyle. At the main crossroad of Historic Makawao town\, Casanova was Maui’s first wood-burning oven. Offering fresh salads\, pastas\, seafood\, and pizzas\, in 2017\, OpenTable diners rated Casanova the Best Italian Restaurant in the State of Hawaii. Learn more at CasanovaMaui.com.\n			\n				Buy Tickets\n			\n			\n				\n				\n				\n				\n			\n				\n				\n				\n				\n				\n				\n				Back to Upcoming
URL:https://alohamusicseries.com/event/sitc-bayou-brothers-feb-2026/
LOCATION:Casanova Makawao\, 1188 Makawao Avenue\, Makawao\, HI\, 96768\, United States
ATTACH;FMTTYPE=image/jpeg:https://alohamusicseries.com/wp-content/uploads/2026/02/BBRSqr600.jpg
END:VEVENT
END:VCALENDAR