BEGIN:VCALENDAR
VERSION:2.0
PRODID:-//Aloha Music Series - ECPv6.15.20//NONSGML v1.0//EN
CALSCALE:GREGORIAN
METHOD:PUBLISH
X-WR-CALNAME:Aloha Music Series
X-ORIGINAL-URL:https://alohamusicseries.com
X-WR-CALDESC:Events for Aloha Music Series
REFRESH-INTERVAL;VALUE=DURATION:PT1H
X-Robots-Tag:noindex
X-PUBLISHED-TTL:PT1H
BEGIN:VTIMEZONE
TZID:UTC
BEGIN:STANDARD
TZOFFSETFROM:+0000
TZOFFSETTO:+0000
TZNAME:UTC
DTSTART:20250101T000000
END:STANDARD
END:VTIMEZONE
BEGIN:VEVENT
DTSTART;TZID=UTC:20260111T130000
DTEND;TZID=UTC:20260111T150000
DTSTAMP:20260425T043613
CREATED:20251204T225954Z
LAST-MODIFIED:20260104T002647Z
UID:2402-1768136400-1768143600@alohamusicseries.com
SUMMARY:Sundays in the Country with Kapali Long
DESCRIPTION:Presented by Maui Brewing Co\nAloha Growers and Casanova Makawao are excited to welcome Kapali Long to the Aloha Music Series “Sundays in the Country” at Casanova’s Makawao on Sunday\, January 11\, 2026 as part of his ‘Born & Raised’ State Tour Presented by Kō Hana Hawaiian Agricole Rum & Gibson Guitars.\nKapali “Leadfoot” Long is a Native Hawaiian\, “Hawaiiana-Americana\, Country\, and Blues\,” singer-songwriter who is making big waves in the Country Music industry in Nashville\, where he now resides. His songwriting and guitar playing are deeply rooted in his experiences\, with a focus on authentic emotional expression and storytelling. His performances deliver truth\, power\, and the healing of music\, lifting spirits and providing relief.\n			\n				\n				\n				\n				\n				More Information Below!\n			\n				Buy Tickets\n			\n			\n				\n				\n				\n				\n				\n				\n				\n				\n				\n				Presented By\n			\n				\n				\n				\n				\n				\n			\n				\n				\n				\n				\n				Casanova Makawao\n			\n				\n				\n				\n				\n				Sunday\nJan 11\, 2026\n			\n				\n				\n				\n				\n				Online: $20 + $1.40 Processing FeeAt Door: $20Doors Open at 11:30amShow Starts at 1pmTables First-Come\, First-ServeFood + Bevs Throughout the Day\n			\n				\n				\n				\n				\n				Follow Us\n			\n				\n				\n				\n				\n				FollowFollowFollow\n			\n			\n				\n				\n				\n				\n			\n				\n				\n				\n				\n				\n				\n				\n				\n				\n				\n				ABOUT KAPALI LONG\nKapali is not only a passionate singer-songwriter with a five-octave voice\, but he is also a highly skilled guitarist\, known for his slide and lap steel playing. Kapaliʻs Hawaiian roots will take you straight to the origins of “Kika Kila”\, or Lap Steel\, where Kapali was mentored under master steel guitarist Alan Akaka. In 2016\, Kapali’s guitar playing caught the attention of Gibson Guitars\, and he has been a signed Gibson artist ever since.\nKapali has opened for Artists like legend Robert Earl Keen\, Ron Pope\, and Howie Day. Kapali has played guitar with Caroline Liar\, Nikki Lane\, and was slated to be the guitarist for Muddy Waters’ son\, Mojo Morganfield\, before his untimely passing. He has also played at major venues and festivals from; South By Southwest\, Echo Park Rising in Los Angeles\, Nikki Lane’s Horseshoe Stage at Stagecoach (1st Native Hawaiian to play Stagecoach)\, Gibson Garage Fest\, WhiskeyJam (Nashville)\, The Bluebird Cafe (Nashville)\, 3rd & Lindsley\, Grand Ole Echo (The Echo)\, Lancaster Roots & Blues\, The Troubadour\, Whiskey Jam & many more.\nKapali comes from a family with a long Hawaiian musical history\, and music has been in his life since he can remember. He is the nephew of Hawaiian musical greats Buddy Fo and Mikilani Fo\, and his grandparents were well-known musicians and performers\, who raised him with the mindset of music and ʻohana (family) from Waimanalo to Punchbowl\, where they played Country\, Blues\, Bluegrass\, and Hawaiian music together. If you follow Kapali’s musical roots\, they will lead you to connections with many musical trailblazers\, including Joseph Kekuku\, Jerry Byrd\, Hank Sr.\, Ry Cooder\, Chet Atkins\, Gabby Pahinui\, and many more.\n			\n				Buy Tickets\n			\n			\n				\n				\n				\n				\n			\n				\n				\n				\n				\n				\n				\n				Back to Upcoming
URL:https://alohamusicseries.com/event/sitc-kapali-long-jan-2026/
LOCATION:Casanova Makawao\, 1188 Makawao Avenue\, Makawao\, HI\, 96768\, United States
ATTACH;FMTTYPE=image/jpeg:https://alohamusicseries.com/wp-content/uploads/2025/12/SIC_KapaliSqr1.11_600.jpg
END:VEVENT
END:VCALENDAR