BEGIN:VCALENDAR
VERSION:2.0
PRODID:-//Aloha Music Series - ECPv6.15.20//NONSGML v1.0//EN
CALSCALE:GREGORIAN
METHOD:PUBLISH
X-ORIGINAL-URL:https://alohamusicseries.com
X-WR-CALDESC:Events for Aloha Music Series
REFRESH-INTERVAL;VALUE=DURATION:PT1H
X-Robots-Tag:noindex
X-PUBLISHED-TTL:PT1H
BEGIN:VTIMEZONE
TZID:UTC
BEGIN:STANDARD
TZOFFSETFROM:+0000
TZOFFSETTO:+0000
TZNAME:UTC
DTSTART:20240101T000000
END:STANDARD
END:VTIMEZONE
BEGIN:VEVENT
DTSTART;TZID=UTC:20251228T130000
DTEND;TZID=UTC:20251228T150000
DTSTAMP:20260425T073207
CREATED:20251209T091318Z
LAST-MODIFIED:20251209T091322Z
UID:2422-1766926800-1766934000@alohamusicseries.com
SUMMARY:Sundays in the Country with Desert Hollow
DESCRIPTION:AG Presents and Casanova Makawao are excited to welcome Desert Hollow to the Aloha Music Series “Sundays in the Country” at Casanova’s in Makawao on Sunday\, December 28th from 1-3pm. Get there early for lunch and stay for world-class music!\nDesert Hollow is where the open road meets the back porch. Blending the spirit of their roots in the California desert and West Virginia countryside\, Maui-based traveling folk duo Xander Hitzig and Nicole Olney weave dusty harmonies\, rootsy rhythms\, and a touch of cosmic twang into songs that wander through heartache\, hope\, and the strange beauty of belonging everywhere and nowhere at once.\n			\n				\n				\n				\n				\n				More Information Below!\n			\n				Buy Tickets\n			\n			\n				\n				\n				\n				\n				\n				\n				\n				\n				\n				Casanova Makawao\n			\n				\n				\n				\n				\n				Sunday\nDec 28\, 2025\n			\n				\n				\n				\n				\n				Online: $20 + $1.40 Processing FeeAt Door: $20Doors Open at 11:30amShow Starts at 1pmTables First-Come\, First-ServeFood + Bevs Throughout the Day\n			\n				\n				\n				\n				\n				Follow Us\n			\n				\n				\n				\n				\n				FollowFollowFollow\n			\n			\n				\n				\n				\n				\n			\n				\n				\n				\n				\n				\n				\n				\n				\n				\n				\n				ABOUT DESERT HOLLOW\nWhether busking on the sidewalk for hundreds outside of Hardly Strictly in San Francisco\, or playing their at-home packed Thursday night residency\, the Desert Hollow live show leaves an impact. Having recently been featured in Rolling Stone following their performance at Healing Appalachia\, Desert Hollow is building anticipation for their upcoming full-length album\, Music for the Folks\, set for release in January 2026. With the first few singles now released\, the record promises their signature blend of heartfelt storytelling\, rootsy instrumentation\, and folk music — music for the folks.\n			\n				\n				\n				\n				\n				ABOUT CASANOVA MAKAWAO\nSince 1986\, Casanova Makawao has been at the heart of the Upcountry Maui lifestyle. At the main crossroad of Historic Makawao town\, Casanova was Maui’s first wood-burning oven. Offering fresh salads\, pastas\, seafood\, and pizzas\, in 2017\, OpenTable diners rated Casanova the Best Italian Restaurant in the State of Hawaii. Learn more at CasanovaMaui.com.\n			\n				Buy Tickets\n			\n			\n				\n				\n				\n				\n			\n				\n				\n				\n				\n				\n				\n				Back to Upcoming
URL:https://alohamusicseries.com/event/sitc-desert-hollow-dec-2025/
LOCATION:Casanova Makawao\, 1188 Makawao Avenue\, Makawao\, HI\, 96768\, United States
ATTACH;FMTTYPE=image/jpeg:https://alohamusicseries.com/wp-content/uploads/2025/12/SIC_DesertHollowSqr12.28_600.jpg
END:VEVENT
END:VCALENDAR