BEGIN:VCALENDAR
VERSION:2.0
PRODID:-//Aloha Music Series - ECPv6.15.20//NONSGML v1.0//EN
CALSCALE:GREGORIAN
METHOD:PUBLISH
X-ORIGINAL-URL:https://alohamusicseries.com
X-WR-CALDESC:Events for Aloha Music Series
REFRESH-INTERVAL;VALUE=DURATION:PT1H
X-Robots-Tag:noindex
X-PUBLISHED-TTL:PT1H
BEGIN:VTIMEZONE
TZID:UTC
BEGIN:STANDARD
TZOFFSETFROM:+0000
TZOFFSETTO:+0000
TZNAME:UTC
DTSTART:20240101T000000
END:STANDARD
END:VTIMEZONE
BEGIN:VEVENT
DTSTART;TZID=UTC:20251224T173000
DTEND;TZID=UTC:20251224T203000
DTSTAMP:20260425T060853
CREATED:20251210T051142Z
LAST-MODIFIED:20251210T051146Z
UID:2430-1766597400-1766608200@alohamusicseries.com
SUMMARY:Christmas Eve with Andrew & Jay Molina
DESCRIPTION:AG Presents is excited to bring the Aloha Music Series to Mulligans On The Blue for a very special Ukulele Holiday Show with Andrew and Jay Molina on Christmas Eve from 5:30-8:30pm.\nExperience one of Hawaii‘s great ukulele-fronted duos\, (father + son) Andrew and Jay Molina\, as they share songs\, stories\, and laughter while taking you on a musical journey throughout the “World of Ukulele” for this special holiday show. Mulligans will be serving a special holiday menu for this special evening.\nCome enjoy a special holiday dinner\, drinks\, sunset\, and explore the world of ukulele music! \n			\n				Make Reservations\n			\n				\n				\n				\n				\n				More Details Below!\n			\n			\n				\n				\n				\n				\n				\n				\n				\n				\n				\n				MulligansOn The Blue\n			\n				\n				\n				\n				\n				Thursday\nDec. 24\, 2025\n			\n				\n				\n				\n				\n				$10 with OpenTable Reservation$15 Aa Door with No Reservation\nDoors: 5pmShow: 5:30pmA special holiday menu will be served.\n			\n				\n				\n				\n				\n				Follow Us\n			\n				\n				\n				\n				\n				FollowFollowFollow\n			\n			\n				\n				\n				\n				\n			\n				\n				\n				\n				\n				\n				\n				\n				\n				\n				\n				A three-time Nā Hōkū Hanohano award nominee\, Andrew is celebrated for his innovative approach\, blending traditional Hawaiian sounds with rock classics like Aerosmith’s “Dream On” and Guns N’ Roses’ “Sweet Child O’ Mine.” His performances and songwriting continue to push the boundaries of what’s possible on the ukulele\, inspiring audiences worldwide.\n“Andrew Molina is one of my favorite musicians. He works incredibly hard on his craft and approaches the ukulele in such a unique way.” —Jake Shimabukuro\n“Andrew Molina is among a new generation of Hawaiian ukulele players taking a global-sized approach to what’s possible on the ukulele” —Greg Olwell – Ukulele Magazine\n“This guy has serious ukulele chops\, and he’s capable of breathing life into any style with sheer virtuosity” —Blair Jackson – Ukulele Magazine\nAndrew and Jay have toured the East and West coasts of the US multiple times and performed at the Maui Ukulele Festival\, the Tacoma Ukulele Festival in Washington\, the Los Angeles International Ukulele Festival\, the Tahiti International Ukulele Festival\, the Austrian Ukulele Festival\, the Music China Expo Show in Shanghai\, China\, and the Grand Northern Ukulele Festival in Northern England.\n			\n				Make Reservations\n			\n			\n				\n				\n				\n				\n			\n				\n				\n				\n				\n				\n				\n				Back to Upcoming
URL:https://alohamusicseries.com/event/christmas-eve-andrew-jay/
LOCATION:Mulligans On The Blue\, 100 Kaukahi St.\, Kihei\, HI\, 96753\, United States
ATTACH;FMTTYPE=image/jpeg:https://alohamusicseries.com/wp-content/uploads/2025/12/UkuleleHolidaysSqr600.jpg
END:VEVENT
END:VCALENDAR