BEGIN:VCALENDAR
VERSION:2.0
PRODID:-//Aloha Music Series - ECPv6.15.20//NONSGML v1.0//EN
CALSCALE:GREGORIAN
METHOD:PUBLISH
X-WR-CALNAME:Aloha Music Series
X-ORIGINAL-URL:https://alohamusicseries.com
X-WR-CALDESC:Events for Aloha Music Series
REFRESH-INTERVAL;VALUE=DURATION:PT1H
X-Robots-Tag:noindex
X-PUBLISHED-TTL:PT1H
BEGIN:VTIMEZONE
TZID:UTC
BEGIN:STANDARD
TZOFFSETFROM:+0000
TZOFFSETTO:+0000
TZNAME:UTC
DTSTART:20240101T000000
END:STANDARD
END:VTIMEZONE
BEGIN:VEVENT
DTSTART;TZID=UTC:20251012T130000
DTEND;TZID=UTC:20251012T153000
DTSTAMP:20260425T101059
CREATED:20251001T020446Z
LAST-MODIFIED:20251001T020451Z
UID:2206-1760274000-1760283000@alohamusicseries.com
SUMMARY:Sundays in the Country with Three to 5
DESCRIPTION:AG Presents and Casanova Makawao are excited to welcome Three to 5 to the Aloha Music Series “Sundays in the Country” at Casanova’s in beautiful Makawao on Sunday\, October 12\, 2025.\nJoin us for a lively performance by Three to 5\, an elite instrumental funk and soul group. Composed of seasoned musicians who have individually supported renowned acts\, the band has made its mark by opening for national touring artists in Hawaii and backing the legendary bassist George Porter Jr. from the iconic New Orleans band\, The Meters. Three to 5’s dynamic sound and infectious energy promise to funkify the dance floor and deliver an unforgettable experience.\n			\n				\n				\n				\n				\n				More Information Below!\n			\n				Buy Tickets\n			\n			\n				\n				\n				\n				\n				\n				\n				\n				\n				\n				Casanova Makawao\n			\n				\n				\n				\n				\n				Sunday\nOct 12\, 2025\n			\n				\n				\n				\n				\n				Online: $20 + $1.40 Processing FeeAt Door: $20Doors Open at 11:30amShow Starts at 1pmTables First-Come\, First-ServeFood + Bevs Throughout the Day\n			\n				\n				\n				\n				\n				Follow Us\n			\n				\n				\n				\n				\n				FollowFollowFollow\n			\n			\n				\n				\n				\n				\n			\n				\n				\n				\n				\n				\n				\n				\n				\n				\n				\n				ABOUT CASANOVA MAKAWAO\nSince 1986\, Casanova Makawao has been at the heart of the Upcountry Maui lifestyle. At the main crossroad of Historic Makawao town\, Casanova was Maui’s first wood-burning oven. Offering fresh salads\, pastas\, seafood\, and pizzas\, in 2017\, OpenTable diners rated Casanova the Best Italian Restaurant in the State of Hawaii. Learn more at CasanovaMaui.com.\n \n			\n				Buy Tickets\n			\n			\n				\n				\n				\n				\n			\n				\n				\n				\n				\n				\n				\n				Back to Upcoming
URL:https://alohamusicseries.com/event/sitc-with-three-to-5/
LOCATION:Casanova Makawao\, 1188 Makawao Avenue\, Makawao\, HI\, 96768\, United States
ATTACH;FMTTYPE=image/jpeg:https://alohamusicseries.com/wp-content/uploads/2025/09/SIC_325_9.21_600.jpg
END:VEVENT
END:VCALENDAR