BEGIN:VCALENDAR
VERSION:2.0
PRODID:-//Aloha Music Series - ECPv6.15.20//NONSGML v1.0//EN
CALSCALE:GREGORIAN
METHOD:PUBLISH
X-WR-CALNAME:Aloha Music Series
X-ORIGINAL-URL:https://alohamusicseries.com
X-WR-CALDESC:Events for Aloha Music Series
REFRESH-INTERVAL;VALUE=DURATION:PT1H
X-Robots-Tag:noindex
X-PUBLISHED-TTL:PT1H
BEGIN:VTIMEZONE
TZID:UTC
BEGIN:STANDARD
TZOFFSETFROM:+0000
TZOFFSETTO:+0000
TZNAME:UTC
DTSTART:20240101T000000
END:STANDARD
END:VTIMEZONE
BEGIN:VEVENT
DTSTART;TZID=UTC:20251004T190000
DTEND;TZID=UTC:20251004T210000
DTSTAMP:20260425T084715
CREATED:20250911T054729Z
LAST-MODIFIED:20250911T054733Z
UID:2184-1759604400-1759611600@alohamusicseries.com
SUMMARY:World of Ukulele with Andrew & Jay Molina
DESCRIPTION:AG Presents is excited to bring the Aloha Music Series to Half Moon Bay\, California with Maui’s Ukulele Virtuoso Andrew & Jay Molina on Saturday\, October 4\, 2025 at the Old Princeton Landing.\nExperience one of Hawaii‘s great ukulele-fronted duos\, (father + son) Andrew and Jay Molina\, as they share songs\, stories\, and laughter while taking you on a musical journey throughout the “World of Ukulele”.\n			\n				Buy Tickets\n			\n				\n				\n				\n				\n				More Details Below!\n			\n			\n				\n				\n				\n				\n				\n				\n				\n				\n				\n				Old PrincetonLanding\n			\n				\n				\n				\n				\n				Saturday\nOct. 4\, 2025\n			\n				\n				\n				\n				\n				$10 In advance OR$15 At the door6pm Doors7pm ShowFood & Beverages available for purchase\n			\n				\n				\n				\n				\n				Follow Us\n			\n				\n				\n				\n				\n				FollowFollowFollow\n			\n			\n				\n				\n				\n				\n			\n				\n				\n				\n				\n				\n				\n				\n				\n				\n				\n				A three-time Nā Hōkū Hanohano award nominee\, Andrew is celebrated for his innovative approach\, blending traditional Hawaiian sounds with rock classics like Aerosmith’s “Dream On” and Guns N’ Roses’ “Sweet Child O’ Mine.” His performances and songwriting continue to push the boundaries of what’s possible on the ukulele\, inspiring audiences worldwide.\n“Andrew Molina is one of my favorite musicians. He works incredibly hard on his craft and approaches the ukulele in such a unique way.” —Jake Shimabukuro\nAndrew and Jay have toured the East and West coasts of the US multiple times and performed at the Maui Ukulele Festival\, the Tacoma Ukulele Festival in Washington\, the Los Angeles International Ukulele Festival\, the Tahiti International Ukulele Festival\, the Austrian Ukulele Festival\, the Music China Expo Show in Shanghai\, China\, and the Grand Northern Ukulele Festival in Northern England.\nABOUT OLD PRINCETON LANDING (OPL)Re-opened in the fall of 2010 by brothers Brian and Peter Overfelt\, Old Princeton Landing welcomes locals and visitors alike. With the recent merging of the adjoining restaurant to the bar\, we’ve named the entire facility Old Princeton Landing Public House and Grill.\nPeter and Brian Overfelt were raised on the Coast and grew up surfing in California before they ventured all over the world. The food they ate while on surf trips in places like Australia\, Indonesia\, Brazil\, Central America\, Morocco\, and Mexico left a lasting impression and has inspired much of what’s served at OPL today.\n			\n				Buy Tickets\n			\n			\n				\n				\n				\n				\n			\n				\n				\n				\n				\n				\n				\n				Back to Upcoming
URL:https://alohamusicseries.com/event/andrew-molina-opl-oct-2025/
LOCATION:Old Princeton Landing\, 460 Capistrano Road\, Half Moon Bay\, CA\, 94019\, United States
ATTACH;FMTTYPE=image/jpeg:https://alohamusicseries.com/wp-content/uploads/2025/09/AndrewOPLSqrV600-AMS.jpg
END:VEVENT
END:VCALENDAR