BEGIN:VCALENDAR
VERSION:2.0
PRODID:-//Aloha Music Series - ECPv6.15.20//NONSGML v1.0//EN
CALSCALE:GREGORIAN
METHOD:PUBLISH
X-WR-CALNAME:Aloha Music Series
X-ORIGINAL-URL:https://alohamusicseries.com
X-WR-CALDESC:Events for Aloha Music Series
REFRESH-INTERVAL;VALUE=DURATION:PT1H
X-Robots-Tag:noindex
X-PUBLISHED-TTL:PT1H
BEGIN:VTIMEZONE
TZID:UTC
BEGIN:STANDARD
TZOFFSETFROM:+0000
TZOFFSETTO:+0000
TZNAME:UTC
DTSTART:20240101T000000
END:STANDARD
END:VTIMEZONE
BEGIN:VEVENT
DTSTART;TZID=UTC:20250921T130000
DTEND;TZID=UTC:20250921T150000
DTSTAMP:20260425T100509
CREATED:20250913T023313Z
LAST-MODIFIED:20250913T023625Z
UID:2195-1758459600-1758466800@alohamusicseries.com
SUMMARY:Sundays in the Country Featuring Tavana
DESCRIPTION:AG Presents and Casanova Makawao are excited to welcome renowned musician Tavana to the Aloha Music Series “Sundays in the Country” at Casanova’s in Beautiful Makawao on Sunday\, September 21\, 2025.\nRenowned Hawaiian musician Tavana is known for his soulful voice\, dynamic stage presence\, and incredible musical talent. A one-man musical wrecking crew\, he seamlessly bridges the gap between Hawaiian Music and Delta Blues.\n			\n				\n				\n				\n				\n				More Information Below!\n			\n				Buy Tickets\n			\n			\n				\n				\n				\n				\n				\n				\n				\n				\n				\n				Casanova Makawao\n			\n				\n				\n				\n				\n				Sunday\nSept 21\, 2025\n			\n				\n				\n				\n				\n				Online: $20 + $1.40 Processing FeeAt Door: $20Doors Open at 11:30amShow Starts at 1pmTables First-Come\, First-ServeFood + Bevs Throughout the Day\n			\n				\n				\n				\n				\n				Follow Us\n			\n				\n				\n				\n				\n				FollowFollowFollow\n			\n			\n				\n				\n				\n				\n			\n				\n				\n				\n				\n				\n				\n				\n				\n				\n				\n				ABOUT TAVANA\nTavana is a one-man musical wrecking crew from Honolulu\, who uses his feet to lay down a variety of grooves while simultaneously playing guitar\, banjo\, lap steel\, or ukulele and singing deep-soulful\, island-inspired rock and blues\, bridging the gap between Hawaiian Music and Delta Blues.\n“He’s more the exception than the rule\, he is a great human and I’m glad to know him” —Eddie Vedder\n“Tavana is a man on a mission and big opportunities await his arrival. I believe he’s on the edge of going big.” — Henry Kapono\nTavana is known for his Waikiki jam sessions and regularly jams with a who’s who of players in Hawaii\, including Eddie Vedder\, who invited Tavana to sing ‘Hawaii 78’ – a Hawaii anthem of sorts – with him at the Hawaii Theatre. From a recording of their performance together\, Vedder produced a limited vinyl record that was sent out to 10\,000 Pearl Jam fans. Vedder also took Tavana out on tour for several dates as his opening act for his solo album. Tavana has jammed with many musical greats\, including Jack Johnson\, Pat Simmons\, Michael McDonald\, Henry Kapono\, G Love\, Willie K\, John Cruz\, Ron and Thunderstorm Artis\, and Leon Mobley (Ben Harper & The Innocent Criminals). He has also been the supporting act for Alabama Shakes\, Shakey Graves\, Xavier Rudd\, Jenny Lewis\, Julian Marley\, and Kaleo\, to name a few.\nTavana is a multi-Nā Hōkū Hanohano (Hawaiian Grammy®) nominee and is currently featured on an in-flight video on all Hawaiian Airlines flights. He was a featured artist on Henry Kapono’s “The Songs of C&K” and is also a featured Playing for Change artist.\n			\n				Buy Tickets\n			\n			\n				\n				\n				\n				\n			\n				\n				\n				\n				\n				\n				\n				Back to Upcoming
URL:https://alohamusicseries.com/event/sitc-tavana-sept-2025/
LOCATION:Casanova Makawao\, 1188 Makawao Avenue\, Makawao\, HI\, 96768\, United States
ATTACH;FMTTYPE=image/jpeg:https://alohamusicseries.com/wp-content/uploads/2025/09/SIC_TAVANA_9.21_600.jpg
END:VEVENT
END:VCALENDAR