BEGIN:VCALENDAR
VERSION:2.0
PRODID:-//Aloha Music Series - ECPv6.15.20//NONSGML v1.0//EN
CALSCALE:GREGORIAN
METHOD:PUBLISH
X-WR-CALNAME:Aloha Music Series
X-ORIGINAL-URL:https://alohamusicseries.com
X-WR-CALDESC:Events for Aloha Music Series
REFRESH-INTERVAL;VALUE=DURATION:PT1H
X-Robots-Tag:noindex
X-PUBLISHED-TTL:PT1H
BEGIN:VTIMEZONE
TZID:UTC
BEGIN:STANDARD
TZOFFSETFROM:+0000
TZOFFSETTO:+0000
TZNAME:UTC
DTSTART:20240101T000000
END:STANDARD
END:VTIMEZONE
BEGIN:VEVENT
DTSTART;TZID=UTC:20250914T130000
DTEND;TZID=UTC:20250914T153000
DTSTAMP:20260425T101440
CREATED:20250903T042922Z
LAST-MODIFIED:20250911T042643Z
UID:2157-1757854800-1757863800@alohamusicseries.com
SUMMARY:Sundays in the Country Featuring Benny Uyetake + Friends
DESCRIPTION:AG Presents and Casanova Makawao are excited to welcome Benny Uyetake + Friends to the Aloha Music Series Sundays in the Country beautiful Makawao on September 14\, 2025\, The doors open at 11:30am and the show starts at 1pm.\nUncle Benny Uyetake is a Hawaiian treasure who plays across all genres of music!! Benny will introduce you to the new sounds from the islands and transport you to old Hawaiʻi as he hosts upcoming artists and Hawaiʻi’s legends. Benny welcomes Wilson Kanakaole and Brian Haia and Hula dancing from Polynesian Dancer & Cultural Ambassador\, Wailani Mulvihill.\n			\n				\n				\n				\n				\n				More Information Below!\n			\n				Buy Tickets\n			\n			\n				\n				\n				\n				\n				\n				\n				\n				\n				\n				Casanova Makawao\n			\n				\n				\n				\n				\n				Sunday\nSept 14\, 2025\n			\n				\n				\n				\n				\n				Online: $20 + $1.40 Processing FeeAt Door: $20Doors Open at 11:30amTables First-Come\, First-ServedFood + Bevs Throughout the Day\n			\n				\n				\n				\n				\n				Follow Us\n			\n				\n				\n				\n				\n				FollowFollowFollow\n			\n			\n				\n				\n				\n				\n			\n				\n				\n				\n				\n				\n				\n				\n				\n				\n				\n				ABOUT THE ARTISTS\nBenny Uyetake has played with some of the world’s finest musicians on Maui and while touring. Over the years\, Benny has shared the stage with some of Hawaiʻi’s greatest trailblazers like Uncle Willie K and Barry Flanagan of HAPA\, as well as the world’s most talented jazz players Les McCann\, Russel Malone\, and Donald Harrison. His versatility comes from his years of musical study in different genres with mentors in classical\, jazz\, Hawaiian\, Blues\, and rock.\nWilson Kanaka’ole\, a guitarist and vocalist\, grew up in Lahaina\, attended the University of Hawai’i Maui College’s Institute of Hawaiian Music\, and has appeared on records by the Barefoot Natives and other island musicians. He comes from a family of talented musicians\, including his father\, Eric Kanaka’ole\, and uncle\, the late ‘ukulele legend Nelson Waikiki.\nBorn and raised on the island of Oʻahu\, Wailani Mulvihill began her hula journey at the tender age of three. With nearly six decades of dance experience\, her love and dedication to the art of hula and Polynesian dance have taken her across the world — from the shores of Kaʻanapali and Wailea to the stages of Japan\, Hong Kong\, Germany\, Switzerland\, France\, Belgium\, and throughout the United States.\nABOUT CASANOVA MAUI\nSince 1986\, Casanova Makawao has been at the heart of the Upcountry Maui lifestyle. At the main crossroad of Historic Makawao town\, Casanova was Maui’s first wood-burning oven. Offering fresh salads\, pastas\, seafood\, and pizzas\, in 2017\, OpenTable diners rated Casanova the Best Italian Restaurant in the State of Hawaii. Learn more at CasanovaMaui.com.\n			\n				Buy Tickets\n			\n			\n				\n				\n				\n				\n			\n				\n				\n				\n				\n				\n				\n				Back to Upcoming
URL:https://alohamusicseries.com/event/sundays-in-the-country-featuring-benny-uyetake-friends/
LOCATION:Casanova Makawao\, 1188 Makawao Avenue\, Makawao\, HI\, 96768\, United States
ATTACH;FMTTYPE=image/jpeg:https://alohamusicseries.com/wp-content/uploads/2025/09/SIC_Benny_9.14_600-1.jpg
END:VEVENT
END:VCALENDAR