BEGIN:VCALENDAR
VERSION:2.0
PRODID:-//Aloha Music Series - ECPv6.15.20//NONSGML v1.0//EN
CALSCALE:GREGORIAN
METHOD:PUBLISH
X-ORIGINAL-URL:https://alohamusicseries.com
X-WR-CALDESC:Events for Aloha Music Series
REFRESH-INTERVAL;VALUE=DURATION:PT1H
X-Robots-Tag:noindex
X-PUBLISHED-TTL:PT1H
BEGIN:VTIMEZONE
TZID:UTC
BEGIN:STANDARD
TZOFFSETFROM:+0000
TZOFFSETTO:+0000
TZNAME:UTC
DTSTART:20240101T000000
END:STANDARD
END:VTIMEZONE
BEGIN:VEVENT
DTSTART;TZID=UTC:20250831T130000
DTEND;TZID=UTC:20250831T153000
DTSTAMP:20260425T113717
CREATED:20250729T041753Z
LAST-MODIFIED:20250813T095251Z
UID:1873-1756645200-1756654200@alohamusicseries.com
SUMMARY:Sundays in the Country Featuring Above Snakes
DESCRIPTION:On August 31\, 2025\, Mauiʻs premier honky-tonk-country band\, Above Snakes\, will bring an afternoon of music celebrating Classic Country and Honky Tonk to Casanova Makawao. The doors open at 11:30am and the show starts at 1pm.\n			\n				\n				\n				\n				\n				More Information Below!\n			\n				Buy Tickets\n			\n			\n				\n				\n				\n				\n				\n				\n				\n				\n				\n				Casanova Makawao\n			\n				\n				\n				\n				\n				Sunday\nAug 31\, 2025\n			\n				\n				\n				\n				\n				$20 Show TicketsDoors Open at 11:30amTables will be available on a first-come\, first-served basis.Food and drinks will be served throughout the day.\n			\n				\n				\n				\n				\n				Follow Us\n			\n				\n				\n				\n				\n				FollowFollowFollow\n			\n			\n				\n				\n				\n				\n			\n				\n				\n				\n				\n				\n				\n				\n				\n				\n				\n				This trail-blazing band features Marty Fera on drums (Glenn Fry\, Joe Walsh\, and Dave Mason)\, Matt Del Olmo on guitar and vocals\, Tim Hackbarth on bass\, and Justin Morris on guitar and vocals (Brown Chicken Brown Cow).\n			\n				Buy Tickets\n			\n			\n				\n				\n				\n				\n			\n				\n				\n				\n				\n				\n				\n				Back to Upcoming
URL:https://alohamusicseries.com/event/sitc-above-snakes-aug-2025/
LOCATION:Casanova Makawao\, 1188 Makawao Avenue\, Makawao\, HI\, 96768\, United States
ATTACH;FMTTYPE=image/jpeg:https://alohamusicseries.com/wp-content/uploads/2025/07/SIC_AboveSnakesSqr600-2.jpg
END:VEVENT
END:VCALENDAR